Package: Structstrings Version: 1.20.0 Command: /home/biocbuild/bbs-3.19-bioc/R/bin/R CMD check --install=check:Structstrings.install-out.txt --library=/home/biocbuild/bbs-3.19-bioc/R/site-library --timings Structstrings_1.20.0.tar.gz StartedAt: 2024-10-17 05:39:00 -0400 (Thu, 17 Oct 2024) EndedAt: 2024-10-17 05:42:14 -0400 (Thu, 17 Oct 2024) EllapsedTime: 194.3 seconds RetCode: 0 Status: WARNINGS CheckDir: Structstrings.Rcheck Warnings: 1