Package: Structstrings Version: 1.20.0 Command: E:\biocbuild\bbs-3.19-bioc\R\bin\R.exe CMD INSTALL Structstrings StartedAt: 2024-10-16 16:15:40 -0400 (Wed, 16 Oct 2024) EndedAt: 2024-10-16 16:16:34 -0400 (Wed, 16 Oct 2024) EllapsedTime: 54.3 seconds RetCode: 0 Status: OK