Package: StructuralVariantAnnotation Version: 1.20.0 Command: rm -rf StructuralVariantAnnotation.buildbin-libdir && mkdir StructuralVariantAnnotation.buildbin-libdir && /Users/biocbuild/BBS/utils/build-universal.sh StructuralVariantAnnotation_1.20.0.tar.gz /Library/Frameworks/R.framework/Resources/bin/R StructuralVariantAnnotation.buildbin-libdir StartedAt: 2024-10-15 20:31:26 -0400 (Tue, 15 Oct 2024) EndedAt: 2024-10-15 20:32:27 -0400 (Tue, 15 Oct 2024) EllapsedTime: 61.1 seconds RetCode: 0 Status: OK PackageFile: StructuralVariantAnnotation_1.20.0.tgz PackageFileSize: 1.071 MiB