Package: StructuralVariantAnnotation Version: 1.20.0 Command: /Library/Frameworks/R.framework/Resources/bin/R CMD build --keep-empty-dirs --no-resave-data StructuralVariantAnnotation StartedAt: 2024-10-17 10:16:19 -0400 (Thu, 17 Oct 2024) EndedAt: 2024-10-17 10:17:53 -0400 (Thu, 17 Oct 2024) EllapsedTime: 94.3 seconds RetCode: 0 Status: OK PackageFile: StructuralVariantAnnotation_1.20.0.tar.gz PackageFileSize: 962.4 KiB