Package: StructuralVariantAnnotation Version: 1.20.0 Command: /home/biocbuild/R/R-beta-2024-04-15_r86425/bin/R CMD build --keep-empty-dirs --no-resave-data StructuralVariantAnnotation StartedAt: 2024-05-09 03:57:41 -0000 (Thu, 09 May 2024) EndedAt: 2024-05-09 03:59:29 -0000 (Thu, 09 May 2024) EllapsedTime: 107.1 seconds RetCode: 0 Status: OK PackageFile: StructuralVariantAnnotation_1.20.0.tar.gz PackageFileSize: 825.3 KiB