Package: StructuralVariantAnnotation Version: 1.20.0 Command: /home/biocbuild/R/R-beta-2024-04-15_r86425/bin/R CMD check --install=check:StructuralVariantAnnotation.install-out.txt --library=/home/biocbuild/R/R-beta-2024-04-15_r86425/site-library --no-vignettes --timings StructuralVariantAnnotation_1.20.0.tar.gz StartedAt: 2024-05-08 12:27:03 -0000 (Wed, 08 May 2024) EndedAt: 2024-05-08 12:37:29 -0000 (Wed, 08 May 2024) EllapsedTime: 626.2 seconds RetCode: 0 Status: OK CheckDir: StructuralVariantAnnotation.Rcheck Warnings: 0