Package: StructuralVariantAnnotation Version: 1.20.0 Command: /Library/Frameworks/R.framework/Resources/bin/R CMD build --keep-empty-dirs --no-resave-data StructuralVariantAnnotation StartedAt: 2024-10-16 23:48:04 -0400 (Wed, 16 Oct 2024) EndedAt: 2024-10-16 23:51:20 -0400 (Wed, 16 Oct 2024) EllapsedTime: 195.4 seconds RetCode: 0 Status: OK PackageFile: StructuralVariantAnnotation_1.20.0.tar.gz PackageFileSize: 962.1 KiB