Package: StructuralVariantAnnotation Version: 1.20.0 Command: /home/biocbuild/bbs-3.19-bioc/R/bin/R CMD build --keep-empty-dirs --no-resave-data StructuralVariantAnnotation StartedAt: 2024-10-16 21:04:34 -0400 (Wed, 16 Oct 2024) EndedAt: 2024-10-16 21:06:07 -0400 (Wed, 16 Oct 2024) EllapsedTime: 93.2 seconds RetCode: 0 Status: OK PackageFile: StructuralVariantAnnotation_1.20.0.tar.gz PackageFileSize: 795 KiB