Package: StructuralVariantAnnotation Version: 1.20.0 Command: rm -rf StructuralVariantAnnotation.buildbin-libdir && mkdir StructuralVariantAnnotation.buildbin-libdir && F:\biocbuild\bbs-3.19-bioc\R\bin\R.exe CMD INSTALL --build --library=StructuralVariantAnnotation.buildbin-libdir StructuralVariantAnnotation_1.20.0.tar.gz StartedAt: 2024-06-27 09:00:37 -0400 (Thu, 27 Jun 2024) EndedAt: 2024-06-27 09:01:47 -0400 (Thu, 27 Jun 2024) EllapsedTime: 70.6 seconds RetCode: 0 Status: OK PackageFile: StructuralVariantAnnotation_1.20.0.zip PackageFileSize: 817.3 KiB