Package: StructuralVariantAnnotation Version: 1.20.0 Command: chmod a+r StructuralVariantAnnotation -R && F:\biocbuild\bbs-3.19-bioc\R\bin\R.exe CMD build --keep-empty-dirs --no-resave-data StructuralVariantAnnotation StartedAt: 2024-06-26 22:16:06 -0400 (Wed, 26 Jun 2024) EndedAt: 2024-06-26 22:17:52 -0400 (Wed, 26 Jun 2024) EllapsedTime: 106.7 seconds RetCode: 0 Status: OK PackageFile: StructuralVariantAnnotation_1.20.0.tar.gz PackageFileSize: 682.7 KiB