Package: SubCellBarCode Version: 1.20.0 Command: rm -rf SubCellBarCode.buildbin-libdir && mkdir SubCellBarCode.buildbin-libdir && /Users/biocbuild/BBS/utils/build-universal.sh SubCellBarCode_1.20.0.tar.gz /Library/Frameworks/R.framework/Resources/bin/R SubCellBarCode.buildbin-libdir StartedAt: 2024-10-15 20:31:52 -0400 (Tue, 15 Oct 2024) EndedAt: 2024-10-15 20:32:25 -0400 (Tue, 15 Oct 2024) EllapsedTime: 33.2 seconds RetCode: 0 Status: OK PackageFile: SubCellBarCode_1.20.0.tgz PackageFileSize: 2.775 MiB