Package: SubCellBarCode Version: 1.20.0 Command: /Library/Frameworks/R.framework/Resources/bin/R CMD build --keep-empty-dirs --no-resave-data SubCellBarCode StartedAt: 2024-10-17 10:17:53 -0400 (Thu, 17 Oct 2024) EndedAt: 2024-10-17 10:22:52 -0400 (Thu, 17 Oct 2024) EllapsedTime: 299.0 seconds RetCode: 0 Status: OK PackageFile: SubCellBarCode_1.20.0.tar.gz PackageFileSize: 2.352 MiB