Package: SubCellBarCode Version: 1.20.0 Command: rm -rf SubCellBarCode.buildbin-libdir && mkdir SubCellBarCode.buildbin-libdir && /Users/biocbuild/BBS/utils/build-universal.sh SubCellBarCode_1.20.0.tar.gz /Library/Frameworks/R.framework/Resources/bin/R SubCellBarCode.buildbin-libdir StartedAt: 2024-06-11 13:27:15 -0400 (Tue, 11 Jun 2024) EndedAt: 2024-06-11 13:28:05 -0400 (Tue, 11 Jun 2024) EllapsedTime: 50.3 seconds RetCode: 0 Status: OK PackageFile: SubCellBarCode_1.20.0.tgz PackageFileSize: 2.775 MiB