Package: SubCellBarCode Version: 1.20.0 Command: /Library/Frameworks/R.framework/Resources/bin/R CMD INSTALL SubCellBarCode StartedAt: 2024-06-09 17:10:44 -0400 (Sun, 09 Jun 2024) EndedAt: 2024-06-09 17:11:16 -0400 (Sun, 09 Jun 2024) EllapsedTime: 31.0 seconds RetCode: 0 Status: OK