Package: SubCellBarCode Version: 1.20.0 Command: rm -rf SubCellBarCode.buildbin-libdir && mkdir SubCellBarCode.buildbin-libdir && /Users/biocbuild/BBS/utils/build-universal.sh SubCellBarCode_1.20.0.tar.gz /Library/Frameworks/R.framework/Resources/bin/R SubCellBarCode.buildbin-libdir StartedAt: 2024-06-10 00:42:35 -0400 (Mon, 10 Jun 2024) EndedAt: 2024-06-10 00:43:09 -0400 (Mon, 10 Jun 2024) EllapsedTime: 34.5 seconds RetCode: 0 Status: OK PackageFile: SubCellBarCode_1.20.0.tgz PackageFileSize: 2.778 MiB