Package: SubCellBarCode Version: 1.20.0 Command: /Library/Frameworks/R.framework/Resources/bin/R CMD INSTALL SubCellBarCode StartedAt: 2024-06-09 15:35:53 -0400 (Sun, 09 Jun 2024) EndedAt: 2024-06-09 15:36:24 -0400 (Sun, 09 Jun 2024) EllapsedTime: 31.2 seconds RetCode: 0 Status: OK