Package: SubCellBarCode Version: 1.20.0 Command: /Library/Frameworks/R.framework/Resources/bin/R CMD check --install=check:SubCellBarCode.install-out.txt --library=/Library/Frameworks/R.framework/Resources/library --no-vignettes --timings SubCellBarCode_1.20.0.tar.gz StartedAt: 2024-10-17 14:01:22 -0400 (Thu, 17 Oct 2024) EndedAt: 2024-10-17 14:10:07 -0400 (Thu, 17 Oct 2024) EllapsedTime: 524.9 seconds RetCode: 0 Status: OK CheckDir: SubCellBarCode.Rcheck Warnings: 0