Package: SubCellBarCode Version: 1.20.0 Command: rm -rf SubCellBarCode.buildbin-libdir && mkdir SubCellBarCode.buildbin-libdir && E:\biocbuild\bbs-3.19-bioc\R\bin\R.exe CMD INSTALL --build --library=SubCellBarCode.buildbin-libdir SubCellBarCode_1.20.0.tar.gz StartedAt: 2024-10-17 08:44:36 -0400 (Thu, 17 Oct 2024) EndedAt: 2024-10-17 08:45:27 -0400 (Thu, 17 Oct 2024) EllapsedTime: 50.7 seconds RetCode: 0 Status: OK PackageFile: SubCellBarCode_1.20.0.zip PackageFileSize: 1.741 MiB