Package: SummarizedExperiment Version: 1.34.0 Command: rm -rf SummarizedExperiment.buildbin-libdir && mkdir SummarizedExperiment.buildbin-libdir && /Users/biocbuild/BBS/utils/build-universal.sh SummarizedExperiment_1.34.0.tar.gz /Library/Frameworks/R.framework/Resources/bin/R SummarizedExperiment.buildbin-libdir StartedAt: 2024-10-15 20:32:10 -0400 (Tue, 15 Oct 2024) EndedAt: 2024-10-15 20:32:50 -0400 (Tue, 15 Oct 2024) EllapsedTime: 40.0 seconds RetCode: 0 Status: OK PackageFile: SummarizedExperiment_1.34.0.tgz PackageFileSize: 1.874 MiB