Package: SummarizedExperiment Version: 1.34.0 Command: /home/biocbuild/bbs-3.19-bioc/R/bin/R CMD build --keep-empty-dirs --no-resave-data SummarizedExperiment StartedAt: 2024-10-16 21:04:54 -0400 (Wed, 16 Oct 2024) EndedAt: 2024-10-16 21:05:51 -0400 (Wed, 16 Oct 2024) EllapsedTime: 57.2 seconds RetCode: 0 Status: OK PackageFile: SummarizedExperiment_1.34.0.tar.gz PackageFileSize: 672 KiB