Package: SummarizedExperiment Version: 1.34.0 Command: /home/biocbuild/bbs-3.19-bioc/R/bin/R CMD check --install=check:SummarizedExperiment.install-out.txt --library=/home/biocbuild/bbs-3.19-bioc/R/site-library --timings SummarizedExperiment_1.34.0.tar.gz StartedAt: 2024-10-17 05:40:05 -0400 (Thu, 17 Oct 2024) EndedAt: 2024-10-17 05:43:40 -0400 (Thu, 17 Oct 2024) EllapsedTime: 214.4 seconds RetCode: 0 Status: OK CheckDir: SummarizedExperiment.Rcheck Warnings: 0