Package: SummarizedExperiment Version: 1.34.0 Command: chmod a+r SummarizedExperiment -R && E:\biocbuild\bbs-3.19-bioc\R\bin\R.exe CMD build --keep-empty-dirs --no-resave-data SummarizedExperiment StartedAt: 2024-10-16 22:14:48 -0400 (Wed, 16 Oct 2024) EndedAt: 2024-10-16 22:16:08 -0400 (Wed, 16 Oct 2024) EllapsedTime: 80.3 seconds RetCode: 0 Status: OK PackageFile: SummarizedExperiment_1.34.0.tar.gz PackageFileSize: 672.8 KiB