Package: Summix Version: 2.10.0 Command: /Library/Frameworks/R.framework/Resources/bin/R CMD check --install=check:Summix.install-out.txt --library=/Library/Frameworks/R.framework/Resources/library --no-vignettes --timings Summix_2.10.0.tar.gz StartedAt: 2024-10-18 14:23:10 -0400 (Fri, 18 Oct 2024) EndedAt: 2024-10-18 14:24:44 -0400 (Fri, 18 Oct 2024) EllapsedTime: 93.4 seconds RetCode: 0 Status: OK CheckDir: Summix.Rcheck Warnings: 0