Package: Summix Version: 2.10.0 Command: rm -rf Summix.buildbin-libdir && mkdir Summix.buildbin-libdir && E:\biocbuild\bbs-3.19-bioc\R\bin\R.exe CMD INSTALL --build --library=Summix.buildbin-libdir Summix_2.10.0.tar.gz StartedAt: 2024-10-17 08:44:44 -0400 (Thu, 17 Oct 2024) EndedAt: 2024-10-17 08:45:04 -0400 (Thu, 17 Oct 2024) EllapsedTime: 20.3 seconds RetCode: 0 Status: OK PackageFile: Summix_2.10.0.zip PackageFileSize: 354.8 KiB