Package: TADCompare Version: 1.14.0 Command: rm -rf TADCompare.buildbin-libdir && mkdir TADCompare.buildbin-libdir && /Users/biocbuild/BBS/utils/build-universal.sh TADCompare_1.14.0.tar.gz /Library/Frameworks/R.framework/Resources/bin/R TADCompare.buildbin-libdir StartedAt: 2024-10-15 20:34:36 -0400 (Tue, 15 Oct 2024) EndedAt: 2024-10-15 20:35:23 -0400 (Tue, 15 Oct 2024) EllapsedTime: 46.4 seconds RetCode: 0 Status: OK PackageFile: TADCompare_1.14.0.tgz PackageFileSize: 4.972 MiB