Package: TADCompare Version: 1.14.0 Command: /home/biocbuild/R/R-beta-2024-04-15_r86425/bin/R CMD build --keep-empty-dirs --no-resave-data TADCompare StartedAt: 2024-05-09 04:02:33 -0000 (Thu, 09 May 2024) EndedAt: 2024-05-09 04:04:08 -0000 (Thu, 09 May 2024) EllapsedTime: 95.1 seconds RetCode: 0 Status: OK PackageFile: TADCompare_1.14.0.tar.gz PackageFileSize: 3.598 MiB