Package: TADCompare Version: 1.14.0 Command: /home/biocbuild/R/R-beta-2024-04-15_r86425/bin/R CMD INSTALL TADCompare StartedAt: 2024-05-08 21:05:03 -0000 (Wed, 08 May 2024) EndedAt: 2024-05-08 21:05:41 -0000 (Wed, 08 May 2024) EllapsedTime: 38.7 seconds RetCode: 0 Status: OK