Package: TADCompare Version: 1.14.0 Command: rm -rf TADCompare.buildbin-libdir && mkdir TADCompare.buildbin-libdir && /Users/biocbuild/BBS/utils/build-universal.sh TADCompare_1.14.0.tar.gz /Library/Frameworks/R.framework/Resources/bin/R TADCompare.buildbin-libdir StartedAt: 2024-06-10 00:43:08 -0400 (Mon, 10 Jun 2024) EndedAt: 2024-06-10 00:43:53 -0400 (Mon, 10 Jun 2024) EllapsedTime: 44.9 seconds RetCode: 0 Status: OK PackageFile: TADCompare_1.14.0.tgz PackageFileSize: 4.972 MiB