Package: TADCompare Version: 1.14.0 Command: /Library/Frameworks/R.framework/Resources/bin/R CMD build --keep-empty-dirs --no-resave-data TADCompare StartedAt: 2024-10-16 23:53:11 -0400 (Wed, 16 Oct 2024) EndedAt: 2024-10-16 23:55:49 -0400 (Wed, 16 Oct 2024) EllapsedTime: 157.1 seconds RetCode: 0 Status: OK PackageFile: TADCompare_1.14.0.tar.gz PackageFileSize: 4.195 MiB