Package: TADCompare Version: 1.14.0 Command: chmod a+r TADCompare -R && E:\biocbuild\bbs-3.19-bioc\R\bin\R.exe CMD build --keep-empty-dirs --no-resave-data TADCompare StartedAt: 2024-10-16 22:17:20 -0400 (Wed, 16 Oct 2024) EndedAt: 2024-10-16 22:18:46 -0400 (Wed, 16 Oct 2024) EllapsedTime: 85.7 seconds RetCode: 0 Status: OK PackageFile: TADCompare_1.14.0.tar.gz PackageFileSize: 3.463 MiB