Package: TAPseq Version: 1.16.0 Command: /Library/Frameworks/R.framework/Resources/bin/R CMD check --install=check:TAPseq.install-out.txt --library=/Library/Frameworks/R.framework/Resources/library --no-vignettes --timings TAPseq_1.16.0.tar.gz StartedAt: 2024-06-11 07:51:04 -0400 (Tue, 11 Jun 2024) EndedAt: 2024-06-11 08:06:43 -0400 (Tue, 11 Jun 2024) EllapsedTime: 938.3 seconds RetCode: 0 Status: WARNINGS CheckDir: TAPseq.Rcheck Warnings: 1