Package: TAPseq Version: 1.16.0 Command: /Library/Frameworks/R.framework/Resources/bin/R CMD INSTALL TAPseq StartedAt: 2024-06-09 15:55:41 -0400 (Sun, 09 Jun 2024) EndedAt: 2024-06-09 15:56:42 -0400 (Sun, 09 Jun 2024) EllapsedTime: 60.2 seconds RetCode: 0 Status: OK