Package: TAPseq Version: 1.16.0 Command: /home/biocbuild/bbs-3.19-bioc/R/bin/R CMD build --keep-empty-dirs --no-resave-data TAPseq StartedAt: 2024-10-16 21:07:39 -0400 (Wed, 16 Oct 2024) EndedAt: 2024-10-16 21:12:10 -0400 (Wed, 16 Oct 2024) EllapsedTime: 271.8 seconds RetCode: 0 Status: OK PackageFile: TAPseq_1.16.0.tar.gz PackageFileSize: 2.511 MiB