Package: TAPseq Version: 1.16.0 Command: E:\biocbuild\bbs-3.19-bioc\R\bin\R.exe CMD INSTALL TAPseq StartedAt: 2024-10-16 16:31:23 -0400 (Wed, 16 Oct 2024) EndedAt: 2024-10-16 16:32:25 -0400 (Wed, 16 Oct 2024) EllapsedTime: 62.4 seconds RetCode: 0 Status: OK