Package: TBSignatureProfiler Version: 1.16.0 Command: rm -rf TBSignatureProfiler.buildbin-libdir && mkdir TBSignatureProfiler.buildbin-libdir && /Users/biocbuild/BBS/utils/build-universal.sh TBSignatureProfiler_1.16.0.tar.gz /Library/Frameworks/R.framework/Resources/bin/R TBSignatureProfiler.buildbin-libdir StartedAt: 2024-06-10 00:43:15 -0400 (Mon, 10 Jun 2024) EndedAt: 2024-06-10 00:43:24 -0400 (Mon, 10 Jun 2024) EllapsedTime: 9.2 seconds RetCode: 0 Status: OK PackageFile: TBSignatureProfiler_1.16.0.tgz PackageFileSize: 4.934 MiB