Package: TBSignatureProfiler Version: 1.16.0 Command: /Library/Frameworks/R.framework/Resources/bin/R CMD INSTALL TBSignatureProfiler StartedAt: 2024-10-16 16:36:43 -0400 (Wed, 16 Oct 2024) EndedAt: 2024-10-16 16:36:54 -0400 (Wed, 16 Oct 2024) EllapsedTime: 11.5 seconds RetCode: 0 Status: OK