Package: TCC Version: 1.44.0 Command: /Library/Frameworks/R.framework/Resources/bin/R CMD check --install=check:TCC.install-out.txt --library=/Library/Frameworks/R.framework/Resources/library --no-vignettes --timings TCC_1.44.0.tar.gz StartedAt: 2024-10-18 14:49:12 -0400 (Fri, 18 Oct 2024) EndedAt: 2024-10-18 14:55:14 -0400 (Fri, 18 Oct 2024) EllapsedTime: 362.8 seconds RetCode: 0 Status: OK CheckDir: TCC.Rcheck Warnings: 0