Package: TCC Version: 1.44.0 Command: /home/biocbuild/bbs-3.19-bioc/R/bin/R CMD build --keep-empty-dirs --no-resave-data TCC StartedAt: 2024-10-16 21:08:21 -0400 (Wed, 16 Oct 2024) EndedAt: 2024-10-16 21:09:57 -0400 (Wed, 16 Oct 2024) EllapsedTime: 96.5 seconds RetCode: 0 Status: OK PackageFile: TCC_1.44.0.tar.gz PackageFileSize: 2.883 MiB