Package: TCC Version: 1.44.0 Command: F:\biocbuild\bbs-3.19-bioc\R\bin\R.exe CMD check --no-multiarch --install=check:TCC.install-out.txt --library=F:\biocbuild\bbs-3.19-bioc\R\library --no-vignettes --timings TCC_1.44.0.tar.gz StartedAt: 2024-06-27 06:52:23 -0400 (Thu, 27 Jun 2024) EndedAt: 2024-06-27 06:57:51 -0400 (Thu, 27 Jun 2024) EllapsedTime: 327.5 seconds RetCode: 0 Status: OK CheckDir: TCC.Rcheck Warnings: 0