Package: TCseq Version: 1.28.0 Maintainer: Mengjun Wu MaintainerEmail: minervajunjun at gmail.com git_url: https://git.bioconductor.org/packages/TCseq git_branch: RELEASE_3_19 git_last_commit: 8cfa4e6 git_last_commit_date: 2024-04-30 10:55:45 -0400 (Tue, 30 Apr 2024)