Package: TCseq Version: 1.28.0 Command: /Library/Frameworks/R.framework/Resources/bin/R CMD build --keep-empty-dirs --no-resave-data TCseq StartedAt: 2024-10-17 10:34:55 -0400 (Thu, 17 Oct 2024) EndedAt: 2024-10-17 10:35:54 -0400 (Thu, 17 Oct 2024) EllapsedTime: 58.5 seconds RetCode: 0 Status: OK PackageFile: TCseq_1.28.0.tar.gz PackageFileSize: 1.114 MiB