Package: TCseq Version: 1.28.0 Command: /Library/Frameworks/R.framework/Resources/bin/R CMD check --install=check:TCseq.install-out.txt --library=/Library/Frameworks/R.framework/Resources/library --no-vignettes --timings TCseq_1.28.0.tar.gz StartedAt: 2024-10-17 14:14:21 -0400 (Thu, 17 Oct 2024) EndedAt: 2024-10-17 14:22:34 -0400 (Thu, 17 Oct 2024) EllapsedTime: 492.7 seconds RetCode: 0 Status: WARNINGS CheckDir: TCseq.Rcheck Warnings: 1