Package: TCseq Version: 1.28.0 Command: /home/biocbuild/bbs-3.19-bioc/R/bin/R CMD build --keep-empty-dirs --no-resave-data TCseq StartedAt: 2024-10-16 21:08:36 -0400 (Wed, 16 Oct 2024) EndedAt: 2024-10-16 21:09:18 -0400 (Wed, 16 Oct 2024) EllapsedTime: 42.4 seconds RetCode: 0 Status: OK PackageFile: TCseq_1.28.0.tar.gz PackageFileSize: 1.023 MiB