Package: TCseq Version: 1.28.0 Command: chmod a+r TCseq -R && F:\biocbuild\bbs-3.19-bioc\R\bin\R.exe CMD build --keep-empty-dirs --no-resave-data TCseq StartedAt: 2024-06-26 22:20:24 -0400 (Wed, 26 Jun 2024) EndedAt: 2024-06-26 22:21:24 -0400 (Wed, 26 Jun 2024) EllapsedTime: 60.2 seconds RetCode: 0 Status: OK PackageFile: TCseq_1.28.0.tar.gz PackageFileSize: 1.024 MiB