Package: TCseq Version: 1.28.0 Command: chmod a+r TCseq -R && E:\biocbuild\bbs-3.19-bioc\R\bin\R.exe CMD build --keep-empty-dirs --no-resave-data TCseq StartedAt: 2024-10-16 22:18:30 -0400 (Wed, 16 Oct 2024) EndedAt: 2024-10-16 22:19:27 -0400 (Wed, 16 Oct 2024) EllapsedTime: 56.9 seconds RetCode: 0 Status: OK PackageFile: TCseq_1.28.0.tar.gz PackageFileSize: 1.025 MiB