Package: TDbasedUFE Version: 1.4.0 Command: /Library/Frameworks/R.framework/Resources/bin/R CMD build --keep-empty-dirs --no-resave-data TDbasedUFE StartedAt: 2024-10-17 10:35:31 -0400 (Thu, 17 Oct 2024) EndedAt: 2024-10-17 10:36:13 -0400 (Thu, 17 Oct 2024) EllapsedTime: 41.9 seconds RetCode: 0 Status: OK PackageFile: TDbasedUFE_1.4.0.tar.gz PackageFileSize: 1.349 MiB