Package: TDbasedUFE Version: 1.4.0 Command: /Library/Frameworks/R.framework/Resources/bin/R CMD check --install=check:TDbasedUFE.install-out.txt --library=/Library/Frameworks/R.framework/Resources/library --no-vignettes --timings TDbasedUFE_1.4.0.tar.gz StartedAt: 2024-10-18 14:52:52 -0400 (Fri, 18 Oct 2024) EndedAt: 2024-10-18 14:55:21 -0400 (Fri, 18 Oct 2024) EllapsedTime: 148.7 seconds RetCode: 0 Status: OK CheckDir: TDbasedUFE.Rcheck Warnings: 0