Package: TDbasedUFE Version: 1.4.0 Command: E:\biocbuild\bbs-3.19-bioc\R\bin\R.exe CMD INSTALL TDbasedUFE StartedAt: 2024-10-16 16:47:36 -0400 (Wed, 16 Oct 2024) EndedAt: 2024-10-16 16:47:58 -0400 (Wed, 16 Oct 2024) EllapsedTime: 21.6 seconds RetCode: 0 Status: OK