Package: TEQC Version: 4.26.0 Command: /Library/Frameworks/R.framework/Resources/bin/R CMD check --install=check:TEQC.install-out.txt --library=/Library/Frameworks/R.framework/Resources/library --no-vignettes --timings TEQC_4.26.0.tar.gz StartedAt: 2024-10-17 14:16:24 -0400 (Thu, 17 Oct 2024) EndedAt: 2024-10-17 14:20:37 -0400 (Thu, 17 Oct 2024) EllapsedTime: 252.9 seconds RetCode: 0 Status: WARNINGS CheckDir: TEQC.Rcheck Warnings: 1