Package: TFARM Version: 1.26.0 Command: /Library/Frameworks/R.framework/Resources/bin/R CMD build --keep-empty-dirs --no-resave-data TFARM StartedAt: 2024-10-17 10:38:44 -0400 (Thu, 17 Oct 2024) EndedAt: 2024-10-17 10:41:01 -0400 (Thu, 17 Oct 2024) EllapsedTime: 137.6 seconds RetCode: 0 Status: OK PackageFile: TFARM_1.26.0.tar.gz PackageFileSize: 471.1 KiB